BEGIN:VCALENDAR
VERSION:2.0
PRODID:-//CiviCRM//NONSGML CiviEvent iCal//EN
X-WR-TIMEZONE:America/New_York
METHOD:PUBLISH
BEGIN:VTIMEZONE
TZID:America/New_York
BEGIN:DAYLIGHT
TZOFFSETFROM:-0400
TZOFFSETTO:-0400
TZNAME:EDT
DTSTART:20260726T100000
END:DAYLIGHT
END:VTIMEZONE
BEGIN:VEVENT
UID:CiviCRM_EventID_834_79ca4fd942e08b14d765c0344832d1d4@www.makehaven.org
SUMMARY:Craft Your Own Cutting Board: Intro to Woodworking
  Basics
X-ALT-DESC;FMTTYPE=text/html:<!DOCTYPE HTML PUBLIC
  "-//W3C//DTD HTML 3.2//EN"><html><body><p><br />\
 n <strong>What to Expect:</strong></p>\n \n <p>In 
 this hands-on class\, Alex will guide you through 
 the step-by-step process of crafting your very own
  10"x12" cutting board. Learn the essential skills
  of woodworking as you gain hands-on experience wi
 th a planer\, table saw\, chop saw\, and sander. D
 iscover the art of finishing as you apply mineral 
 oil to bring out the natural beauty of your creati
 on.</p>\n \n <p><strong>Workshop Highlights:</stro
 ng></p>\n \n <ul>\n 	<li>Tool Mastery: Gain profic
 iency in using essential woodworking tools\, inclu
 ding the planer\, table saw\, chop saw\, and sande
 r.</li>\n 	<li>Hands-On Crafting: Roll up your sle
 eves and delve into the art of woodworking\, creat
 ing your own custom cutting board under expert gui
 dance.</li>\n 	<li>Finishing Flourish: Learn the f
 inishing touches as you apply mineral oil to enhan
 ce the aesthetics and durability of your handmade 
 cutting board.</li>\n 	<li>Safety First: Experienc
 e woodworking in a safe and supervised environment
  with provided safety goggles and materials.</li>\
 n </ul>\n \n <p><strong>Safety First:</strong></p>
 \n \n <ul>\n 	<li>Closed-Toe Shoes: Wear closed-to
 e shoes to protect your feet from potential hazard
 s such as falling objects or splinters.</li>\n 	<l
 i>Avoid Loose Items: Secure loose items like jewel
 ry\, hoodie strings\, and any dangling accessories
  to prevent them from getting caught in machinery.
 </li>\n 	<li>Dress Appropriately: Choose clothing 
 that covers your arms and legs to minimize exposur
 e to wood dust and other workshop materials.</li>\
 n 	<li>Safety Goggles: Safety goggles will be prov
 ided\, but if you have your own pair\, feel free t
 o bring them for a customized fit.</li>\n </ul>\n 
 \n <p><strong>No Experience Necessary:</strong></p
 >\n \n <p>This class welcomes participants of all 
 experience levels\, making it an excellent opportu
 nity for woodworking enthusiasts who may initially
  feel intimidated or those who prefer structured l
 earning.</p>\n \n <p><strong>Lunch Break:</strong>
 </p>\n \n <p>Enjoy a scheduled break roughly halfw
 ay through the class for lunch\, providing a momen
 t to recharge and connect with fellow woodworking 
 enthusiasts. (Lunch is not included with the works
 hop\, but there are many excellent options within 
 a few blocks of MakeHaven in all directions.)</p><
 /body></html>
DESCRIPTION:\n \n What to Expect:\n \n \n \n In this hands-on 
 class\, Alex will guide you through the step-by-st
 ep process of crafting your very own 10"x12" cutti
 ng board. Learn the essential skills of woodworkin
 g as you gain hands-on experience with a planer\, 
 table saw\, chop saw\, and sander. Discover the ar
 t of finishing as you apply mineral oil to bring o
 ut the natural beauty of your creation.\n \n \n \n
  Workshop Highlights:\n \n \n \n \n 	Tool Mastery:
  Gain proficiency in using essential woodworking t
 ools\, including the planer\, table saw\, chop saw
 \, and sander.\n 	Hands-On Crafting: Roll up your 
 sleeves and delve into the art of woodworking\, cr
 eating your own custom cutting board under expert 
 guidance.\n 	Finishing Flourish: Learn the finishi
 ng touches as you apply mineral oil to enhance the
  aesthetics and durability of your handmade cuttin
 g board.\n 	Safety First: Experience woodworking i
 n a safe and supervised environment with provided 
 safety goggles and materials.\n \n \n Safety First
 :\n \n \n \n \n 	Closed-Toe Shoes: Wear closed-toe
  shoes to protect your feet from potential hazards
  such as falling objects or splinters.\n 	Avoid Lo
 ose Items: Secure loose items like jewelry\, hoodi
 e strings\, and any dangling accessories to preven
 t them from getting caught in machinery.\n 	Dress 
 Appropriately: Choose clothing that covers your ar
 ms and legs to minimize exposure to wood dust and 
 other workshop materials.\n 	Safety Goggles: Safet
 y goggles will be provided\, but if you have your 
 own pair\, feel free to bring them for a customize
 d fit.\n \n \n No Experience Necessary:\n \n \n \n
  This class welcomes participants of all experienc
 e levels\, making it an excellent opportunity for 
 woodworking enthusiasts who may initially feel int
 imidated or those who prefer structured learning.\
 n \n \n \n Lunch Break:\n \n \n \n Enjoy a schedul
 ed break roughly halfway through the class for lun
 ch\, providing a moment to recharge and connect wi
 th fellow woodworking enthusiasts. (Lunch is not i
 ncluded with the workshop\, but there are many exc
 ellent options within a few blocks of MakeHaven in
  all directions.)\n \n 
CATEGORIES:Ticketed Workshop
CALSCALE:GREGORIAN
DTSTAMP;TZID=America/New_York:20260726T100000
DTSTART;TZID=America/New_York:20260726T100000
DTEND;TZID=America/New_York:20260726T163000
LOCATION:Main Space @ MakeHaven\n 770 Chapel St\n Lower Lev
 el\, via back elevator or stairs\n New Haven\, CT 
 06510\n United States\n 
URL:https://www.makehaven.org/civicrm/event/info?reset=1&id=834
END:VEVENT
END:VCALENDAR
