BEGIN:VCALENDAR
VERSION:2.0
PRODID:-//CiviCRM//NONSGML CiviEvent iCal//EN
X-WR-TIMEZONE:America/New_York
METHOD:PUBLISH
BEGIN:VTIMEZONE
TZID:America/New_York
BEGIN:DAYLIGHT
TZOFFSETFROM:-0400
TZOFFSETTO:-0400
TZNAME:EDT
DTSTART:20260628T100000
END:DAYLIGHT
END:VTIMEZONE
BEGIN:VEVENT
UID:CiviCRM_EventID_900_79ca4fd942e08b14d765c0344832d1d4@www.makehaven.org
SUMMARY:Metal Lathe Mastery: Turning Basics for Beginners
X-ALT-DESC;FMTTYPE=text/html:<!DOCTYPE HTML PUBLIC
  "-//W3C//DTD HTML 3.2//EN"><html><body><p><br />\
 n <strong>What to Expect:</strong> This comprehens
 ive class begins with <b>1.5–2 hours of lecture an
 d discussion</b>\, covering foundational knowledge
  and safety practices before heading to the shop f
 loor. After the discussion\, you’ll move to the ma
 chines for hands-on learning through a guided proj
 ect. From selecting and setting up tools to master
 ing the art of stock installation and part turning
 \, you'll gain hands-on experience in every aspect
  of the lathe workflow. Through a series of intera
 ctive demonstrations and practical exercises\, you
 'll learn essential skills such as filing\, drilli
 ng\, and maintaining concentricity\, ensuring that
  each part you create meets the highest standards 
 of precision and quality.</p>\n \n <p><strong>Skil
 ls You'll Acquire:</strong></p>\n \n <ul>\n 	<li>S
 electing and setting up tools in the lathe toolhol
 der</li>\n 	<li>Applying a file to remove burrs fr
 om a part</li>\n 	<li>Installing stock in the lath
 e chuck for turning purposes</li>\n 	<li>Maintaini
 ng basic concentricity in a part</li>\n 	<li>Using
  a drill chuck in the lathe tailstock</li>\n 	<li>
 Properly drilling holes in metalwork</li>\n </ul>\
 n \n <p><strong>Please note:</strong></p>\n \n <p>
 Participants <i>must</i> watch the following two v
 ideos before the class:<br />\n <a href="https://y
 outu.be/4yhBlctNu-A">Manual Metalworking Lathe Bas
 ics</a><br />\n <a href="https://youtu.be/PuhgO0gX
 Wqg">Metalworking Metrology</a><br />\n <br />\n <
 i><strong>(Note: Participants *must* watch the two
  videos listed above. Anyone who has not watched t
 he videos may be asked to leave\, no refund will b
 e issued.)</strong></i></p>\n \n <p><strong>What's
  Provided:</strong> All necessary tools and materi
 als will be provided for the workshop\, ensuring t
 hat you have everything you need to dive into the 
 exciting world of metal lathe machining. Additiona
 lly\, safety glasses and other necessary safety eq
 uipment will be available for participants to use.
 </p>\n \n <p><strong>Who Should Attend:</strong> T
 his workshop is perfect for beginners and hobbyist
 s eager to explore the art of metalworking. Whethe
 r you're a DIY enthusiast\, a budding machinist\, 
 or simply curious about expanding your skill set\,
  this class offers a welcoming environment for lea
 rners of all backgrounds and experience levels.</p
 >\n \n <p><strong>Prerequisites/Safety Information
 :</strong> Prior to the workshop\, <strong>partici
 pants are required to watch two instructional vide
 os on </strong><a href="https://youtu.be/4yhBlctNu
 -A"><strong>lathe basics</strong></a><strong> and 
 </strong><a href="https://youtu.be/PuhgO0gXWqg"><s
 trong>metalworking metrology</strong></a>. This en
 sures that everyone enters the workshop with a fou
 ndational understanding of lathe operation and saf
 ety protocols. Participants are also required to w
 ear closed-toe shoes and avoid wearing any loose o
 r dangling clothing or accessories during the work
 shop to ensure personal safety.</p>\n \n <p> </p>\
 n \n <p>Participants will receive a link to class 
 materials in their confirmation email and are <b>s
 trongly encouraged to review the content ahead of 
 time</b> to get the most out of the in-person sess
 ion.</p></body></html>
DESCRIPTION:\n \n What to Expect: This comprehensive class beg
 ins with 1.5–2 hours of lecture and discussion\, c
 overing foundational knowledge and safety practice
 s before heading to the shop floor. After the disc
 ussion\, you’ll move to the machines for hands-on 
 learning through a guided project. From selecting 
 and setting up tools to mastering the art of stock
  installation and part turning\, you'll gain hands
 -on experience in every aspect of the lathe workfl
 ow. Through a series of interactive demonstrations
  and practical exercises\, you'll learn essential 
 skills such as filing\, drilling\, and maintaining
  concentricity\, ensuring that each part you creat
 e meets the highest standards of precision and qua
 lity.\n \n \n \n Skills You'll Acquire:\n \n \n \n
  \n 	Selecting and setting up tools in the lathe t
 oolholder\n 	Applying a file to remove burrs from 
 a part\n 	Installing stock in the lathe chuck for 
 turning purposes\n 	Maintaining basic concentricit
 y in a part\n 	Using a drill chuck in the lathe ta
 ilstock\n 	Properly drilling holes in metalwork\n 
 \n \n Please note:\n \n \n \n Participants must wa
 tch the following two videos before the class:\n \
 n Manual Metalworking Lathe Basics (https://youtu.
 be/4yhBlctNu-A)\n \n Metalworking Metrology (https
 ://youtu.be/PuhgO0gXWqg)\n \n \n \n (Note: Partici
 pants *must* watch the two videos listed above. An
 yone who has not watched the videos may be asked t
 o leave\, no refund will be issued.)\n \n \n \n Wh
 at's Provided: All necessary tools and materials w
 ill be provided for the workshop\, ensuring that y
 ou have everything you need to dive into the excit
 ing world of metal lathe machining. Additionally\,
  safety glasses and other necessary safety equipme
 nt will be available for participants to use.\n \n
  \n \n Who Should Attend: This workshop is perfect
  for beginners and hobbyists eager to explore the 
 art of metalworking. Whether you're a DIY enthusia
 st\, a budding machinist\, or simply curious about
  expanding your skill set\, this class offers a we
 lcoming environment for learners of all background
 s and experience levels.\n \n \n \n Prerequisites/
 Safety Information: Prior to the workshop\, partic
 ipants are required to watch two instructional vid
 eos on lathe basics and metalworking metrology. Th
 is ensures that everyone enters the workshop with 
 a foundational understanding of lathe operation an
 d safety protocols. Participants are also required
  to wear closed-toe shoes and avoid wearing any lo
 ose or dangling clothing or accessories during the
  workshop to ensure personal safety.\n \n \n \n  \
 n \n \n \n Participants will receive a link to cla
 ss materials in their confirmation email and are s
 trongly encouraged to review the content ahead of 
 time to get the most out of the in-person session.
 \n \n 
CATEGORIES:Ticketed Workshop
CALSCALE:GREGORIAN
DTSTAMP;TZID=America/New_York:20260628T100000
DTSTART;TZID=America/New_York:20260628T100000
DTEND;TZID=America/New_York:20260628T150000
LOCATION:Main Space @ MakeHaven\n 770 Chapel St\n Lower Lev
 el\, via back elevator or stairs\n New Haven\, CT 
 06510\n United States\n 
URL:https://www.makehaven.org/civicrm/event/info?reset=1&id=900
END:VEVENT
END:VCALENDAR
