BEGIN:VCALENDAR
VERSION:2.0
PRODID:-//CiviCRM//NONSGML CiviEvent iCal//EN
X-WR-TIMEZONE:America/New_York
METHOD:PUBLISH
BEGIN:VTIMEZONE
TZID:America/New_York
BEGIN:DAYLIGHT
TZOFFSETFROM:-0400
TZOFFSETTO:-0400
TZNAME:EDT
DTSTART:20260521T173000
END:DAYLIGHT
END:VTIMEZONE
BEGIN:VEVENT
UID:CiviCRM_EventID_903_79ca4fd942e08b14d765c0344832d1d4@www.makehaven.org
SUMMARY:Intro to Sewing: Get to Know Your Machine
X-ALT-DESC;FMTTYPE=text/html:<!DOCTYPE HTML PUBLIC
  "-//W3C//DTD HTML 3.2//EN"><html><body><p><strong
 >What to Expect</strong></p>\n \n <p>Expect a supp
 ortive\, beginner-friendly class with demonstratio
 ns\, guided practice\, and plenty of time to ask q
 uestions. The instructor will walk you through thr
 eading a machine\, winding a bobbin\, switching st
 itches\, adjusting tension\, and sewing your first
  seams. You’ll also learn hand-stitching basics an
 d apply your new skills immediately through simple
 \, practical projects. All tools and fabric will b
 e provided\, though you’re welcome to bring your o
 wn fabric if you’d like the instructor to evaluate
  its suitability.</p>\n \n <p><strong>Skills You’l
 l Acquire</strong></p>\n \n <ul>\n 	<li>Threading 
 and operating a sewing machine (bobbin winding\, t
 ension basics\, and stitch selection)</li>\n 	<li>
 Sewing machine safety\, basic care\, and troublesh
 ooting common issues</li>\n 	<li>Essential hand-se
 wing stitches</li>\n 	<li>How to use sewing tools 
 correctly (pins\, needles\, seam rippers\, fabric 
 scissors\, etc.)</li>\n 	<li>Stuffing\, shaping\, 
 and finishing small sewn projects</li>\n 	<li>Mach
 ine confidence and foundational sewing vocabulary<
 /li>\n </ul>\n \n <p><strong>What’s Provided</stro
 ng></p>\n \n <ul>\n 	<li>Sewing machines and all t
 ools needed for the class</li>\n 	<li>Fabric and s
 upplies for all in-class projects</li>\n 	<li>Step
 -by-step instruction and hands-on support</li>\n <
 /ul>\n \n <p><strong>Who Should Attend</strong></p
 >\n \n <p>Perfect for absolute beginners\, new mac
 hine owners\, or anyone looking for a gentle and g
 uided introduction to sewing. Ages 18+.</p>\n \n <
 p><strong>Prerequisites/Safety Information</strong
 ></p>\n \n <p>No prerequisites. This class is open
  to complete beginners. Please wear closed-toe sho
 es and avoid loose clothing or accessories around 
 sewing equipment.</p>\n \n <p><strong>What to Brin
 g</strong></p>\n \n <p>A notebook is helpful for j
 otting down tips. You may bring your own fabric if
  you’d like to personalize your project\; the inst
 ructor will help determine whether it’s appropriat
 e for the class.</p></body></html>
DESCRIPTION:What to Expect\n \n \n \n Expect a supportive\, be
 ginner-friendly class with demonstrations\, guided
  practice\, and plenty of time to ask questions. T
 he instructor will walk you through threading a ma
 chine\, winding a bobbin\, switching stitches\, ad
 justing tension\, and sewing your first seams. You
 ’ll also learn hand-stitching basics and apply you
 r new skills immediately through simple\, practica
 l projects. All tools and fabric will be provided\
 , though you’re welcome to bring your own fabric i
 f you’d like the instructor to evaluate its suitab
 ility.\n \n \n \n Skills You’ll Acquire\n \n \n \n
  \n 	Threading and operating a sewing machine (bob
 bin winding\, tension basics\, and stitch selectio
 n)\n 	Sewing machine safety\, basic care\, and tro
 ubleshooting common issues\n 	Essential hand-sewin
 g stitches\n 	How to use sewing tools correctly (p
 ins\, needles\, seam rippers\, fabric scissors\, e
 tc.)\n 	Stuffing\, shaping\, and finishing small s
 ewn projects\n 	Machine confidence and foundationa
 l sewing vocabulary\n \n \n What’s Provided\n \n \
 n \n \n 	Sewing machines and all tools needed for 
 the class\n 	Fabric and supplies for all in-class 
 projects\n 	Step-by-step instruction and hands-on 
 support\n \n \n Who Should Attend\n \n \n \n Perfe
 ct for absolute beginners\, new machine owners\, o
 r anyone looking for a gentle and guided introduct
 ion to sewing. Ages 18+.\n \n \n \n Prerequisites/
 Safety Information\n \n \n \n No prerequisites. Th
 is class is open to complete beginners. Please wea
 r closed-toe shoes and avoid loose clothing or acc
 essories around sewing equipment.\n \n \n \n What 
 to Bring\n \n \n \n A notebook is helpful for jott
 ing down tips. You may bring your own fabric if yo
 u’d like to personalize your project\; the instruc
 tor will help determine whether it’s appropriate f
 or the class.\n \n 
CATEGORIES:Ticketed Workshop
CALSCALE:GREGORIAN
DTSTAMP;TZID=America/New_York:20260521T173000
DTSTART;TZID=America/New_York:20260521T173000
DTEND;TZID=America/New_York:20260521T203000
LOCATION:MakeHaven - 1st Floor Classroom\n 770 Chapel\, Str
 eet\n Classroom on First Floor\n New Have\, CT 065
 10\n United States\n 
URL:https://www.makehaven.org/civicrm/event/info?reset=1&id=903
END:VEVENT
END:VCALENDAR
