BEGIN:VCALENDAR
VERSION:2.0
PRODID:-//CiviCRM//NONSGML CiviEvent iCal//EN
X-WR-TIMEZONE:America/New_York
METHOD:PUBLISH
BEGIN:VTIMEZONE
TZID:America/New_York
BEGIN:DAYLIGHT
TZOFFSETFROM:-0400
TZOFFSETTO:-0400
TZNAME:EDT
DTSTART:20260513T053000
END:DAYLIGHT
END:VTIMEZONE
BEGIN:VEVENT
UID:CiviCRM_EventID_904_79ca4fd942e08b14d765c0344832d1d4@www.makehaven.org
SUMMARY:Sans Serif Recording Studio Tour and Learning Exch
 ange
X-ALT-DESC;FMTTYPE=text/html:<!DOCTYPE HTML PUBLIC
  "-//W3C//DTD HTML 3.2//EN"><html><body><p>Please 
 join us as we get a tour of the  Sans Serif studio
  in the same building as maphaven by the owners. T
 he tour will be followed by a discussion of lesson
 s learned related to operating small recording stu
 dios and they'll be just some discussion about how
  that may apply to the make-haven media room. Or h
 ow people can graduate from the media room to doin
 g more professional level recording. </p>\n \n <p>
  </p>\n \n <p>Sans Serif Recording https://www.san
 sserifrec.com/</p>\n \n <p> </p>\n \n <p>We will m
 eet at Makehaven in main safe and travel up (they 
 are in same building)</p></body></html>
DESCRIPTION:Please join us as we get a tour of the  Sans Serif
  studio in the same building as maphaven by the ow
 ners. The tour will be followed by a discussion of
  lessons learned related to operating small record
 ing studios and they'll be just some discussion ab
 out how that may apply to the make-haven media roo
 m. Or how people can graduate from the media room 
 to doing more professional level recording. \n \n 
 \n \n  \n \n \n \n Sans Serif Recording https://ww
 w.sansserifrec.com/\n \n \n \n  \n \n \n \n We wil
 l meet at Makehaven in main safe and travel up (th
 ey are in same building)\n \n 
CATEGORIES:Tour
CALSCALE:GREGORIAN
DTSTAMP;TZID=America/New_York:20260513T053000
DTSTART;TZID=America/New_York:20260513T053000
DTEND;TZID=America/New_York:20260513T070000
LOCATION:MakeHaven\n 770 Chapel Street\n New Haven\, CT 065
 10\n United States\n 
URL:https://www.makehaven.org/civicrm/event/info?reset=1&id=904
END:VEVENT
END:VCALENDAR
