BEGIN:VCALENDAR
VERSION:2.0
PRODID:-//CiviCRM//NONSGML CiviEvent iCal//EN
X-WR-TIMEZONE:America/New_York
METHOD:PUBLISH
BEGIN:VTIMEZONE
TZID:America/New_York
BEGIN:DAYLIGHT
TZOFFSETFROM:-0400
TZOFFSETTO:-0400
TZNAME:EDT
DTSTART:20260506T170000
END:DAYLIGHT
END:VTIMEZONE
BEGIN:VEVENT
UID:CiviCRM_EventID_907_79ca4fd942e08b14d765c0344832d1d4@www.makehaven.org
SUMMARY:🍕Dough & Donations Night: The Great Give
X-ALT-DESC;FMTTYPE=text/html:<!DOCTYPE HTML PUBLIC
  "-//W3C//DTD HTML 3.2//EN"><html><body><p><strong
 >What to Expect</strong></p>\n \n <p>Come be part 
 of a lively\, hands on effort to support MakeHaven
  during The Great Give! We will have pizza\, beer\
 , and everything you need to jump in—call lists\, 
 text lists\, and easy scripts to guide conversatio
 ns with folks who have asked for reminders to give
 . Bring your phone and your own network too if you
  would like. Every donation we inspire during the 
 event increases our chances of winning an extra $1
 \,000 for the space. It is a simple\, social way t
 o make a real impact.</p>\n \n <p><strong>What to 
 Bring</strong></p>\n \n <ul>\n 	<li>Your Phone: Pl
 ease bring a fully charged phone and a charger if 
 you think you will need one.</li>\n 	<li>Your Cont
 act List: Any friends\, family\, or fellow makers 
 who might want a friendly nudge to support the spa
 ce.</li>\n 	<li>A Great Attitude: This is all abou
 t community energy and shared excitement.</li>\n <
 /ul>\n \n <p><strong>Who Should Join</strong></p>\
 n \n <p>This event is open to any member or suppor
 ter of MakeHaven who wants to help us reach our fu
 ndraising goals. No special skills are required\, 
 just a willingness to chat with people who care ab
 out our mission and the future of the makerspace.<
 /p>\n \n <p><strong>Important Details</strong></p>
 \n \n <ul>\n 	<li>Goal: Raising funds to ensure Ma
 keHaven has the resources to keep growing.</li>\n 
 	<li>Cost: Free for all volunteers.</li>\n 	<li>RS
 VP: Please sign up so we have an accurate headcoun
 t for the pizza order.</li>\n </ul></body></html>
DESCRIPTION:What to Expect\n \n \n \n Come be part of a lively
 \, hands on effort to support MakeHaven during The
  Great Give! We will have pizza\, beer\, and every
 thing you need to jump in—call lists\, text lists\
 , and easy scripts to guide conversations with fol
 ks who have asked for reminders to give. Bring you
 r phone and your own network too if you would like
 . Every donation we inspire during the event incre
 ases our chances of winning an extra $1\,000 for t
 he space. It is a simple\, social way to make a re
 al impact.\n \n \n \n What to Bring\n \n \n \n \n 
 	Your Phone: Please bring a fully charged phone an
 d a charger if you think you will need one.\n 	You
 r Contact List: Any friends\, family\, or fellow m
 akers who might want a friendly nudge to support t
 he space.\n 	A Great Attitude: This is all about c
 ommunity energy and shared excitement.\n \n \n Who
  Should Join\n \n \n \n This event is open to any 
 member or supporter of MakeHaven who wants to help
  us reach our fundraising goals. No special skills
  are required\, just a willingness to chat with pe
 ople who care about our mission and the future of 
 the makerspace.\n \n \n \n Important Details\n \n 
 \n \n \n 	Goal: Raising funds to ensure MakeHaven 
 has the resources to keep growing.\n 	Cost: Free f
 or all volunteers.\n 	RSVP: Please sign up so we h
 ave an accurate headcount for the pizza order.\n 
CATEGORIES:Meetup
CALSCALE:GREGORIAN
DTSTAMP;TZID=America/New_York:20260506T170000
DTSTART;TZID=America/New_York:20260506T170000
DTEND;TZID=America/New_York:20260506T190000
LOCATION:Main Space @ MakeHaven\n 770 Chapel St\n Lower Lev
 el\, via back elevator or stairs\n New Haven\, CT 
 06510\n United States\n 
URL:https://www.makehaven.org/civicrm/event/info?reset=1&id=907
END:VEVENT
END:VCALENDAR
