BEGIN:VCALENDAR
VERSION:2.0
PRODID:-//CiviCRM//NONSGML CiviEvent iCal//EN
X-WR-TIMEZONE:America/New_York
METHOD:PUBLISH
BEGIN:VTIMEZONE
TZID:America/New_York
BEGIN:DAYLIGHT
TZOFFSETFROM:-0400
TZOFFSETTO:-0400
TZNAME:EDT
DTSTART:20260507T170000
END:DAYLIGHT
END:VTIMEZONE
BEGIN:VEVENT
UID:CiviCRM_EventID_908_79ca4fd942e08b14d765c0344832d1d4@www.makehaven.org
SUMMARY:Pints for a Purpose: The Great Give
X-ALT-DESC;FMTTYPE=text/html:<!DOCTYPE HTML PUBLIC
  "-//W3C//DTD HTML 3.2//EN"><html><body><p><strong
 >What to Expect</strong></p>\n \n <p>Celebrate the
  finish line with us while helping drive those fin
 al donations! We will have everything you need\, i
 ncluding call lists\, text prompts\, and an easy w
 ay to reach out to supporters who have been meanin
 g to give. Bring your phone and your contacts and 
 help us turn this last call into real impact. Ever
 y gift gets us closer to bonus funds and a stronge
 r future for MakeHaven.</p>\n \n <p><strong>What t
 o Bring</strong></p>\n \n <ul>\n 	<li>Your Phone: 
 A fully charged device to help send out those fina
 l celebratory messages.</li>\n 	<li>Your Contacts:
  Anyone who needs that one last reminder to help u
 s hit our goal.</li>\n 	<li>Celebratory Spirit: We
  are marking the conclusion of our event efforts\,
  so let us keep the energy high!</li>\n </ul>\n \n
  <p><strong>Who Should Join</strong></p>\n \n <p>T
 his event is open to all MakeHaven members\, volun
 teers\, and supporters. Whether you have been help
 ing out on both nights or are just joining us for 
 this final session\, your presence helps us cross 
 the finish line with a bang.</p>\n \n <p><strong>I
 mportant Details</strong></p>\n \n <ul>\n 	<li>Goa
 l: Securing the final gifts to maximize our bonus 
 fund potential.</li>\n 	<li>Cost: Free for all vol
 unteers.</li>\n 	<li>Food and Drink: We will have 
 happy hour snacks and refreshments provided to cel
 ebrate the community effort.</li>\n </ul></body></
 html>
DESCRIPTION:What to Expect\n \n \n \n Celebrate the finish lin
 e with us while helping drive those final donation
 s! We will have everything you need\, including ca
 ll lists\, text prompts\, and an easy way to reach
  out to supporters who have been meaning to give. 
 Bring your phone and your contacts and help us tur
 n this last call into real impact. Every gift gets
  us closer to bonus funds and a stronger future fo
 r MakeHaven.\n \n \n \n What to Bring\n \n \n \n \
 n 	Your Phone: A fully charged device to help send
  out those final celebratory messages.\n 	Your Con
 tacts: Anyone who needs that one last reminder to 
 help us hit our goal.\n 	Celebratory Spirit: We ar
 e marking the conclusion of our event efforts\, so
  let us keep the energy high!\n \n \n Who Should J
 oin\n \n \n \n This event is open to all MakeHaven
  members\, volunteers\, and supporters. Whether yo
 u have been helping out on both nights or are just
  joining us for this final session\, your presence
  helps us cross the finish line with a bang.\n \n 
 \n \n Important Details\n \n \n \n \n 	Goal: Secur
 ing the final gifts to maximize our bonus fund pot
 ential.\n 	Cost: Free for all volunteers.\n 	Food 
 and Drink: We will have happy hour snacks and refr
 eshments provided to celebrate the community effor
 t.\n 
CATEGORIES:Meetup
CALSCALE:GREGORIAN
DTSTAMP;TZID=America/New_York:20260507T170000
DTSTART;TZID=America/New_York:20260507T170000
DTEND;TZID=America/New_York:20260507T190000
LOCATION:Main Space @ MakeHaven\n 770 Chapel St\n Lower Lev
 el\, via back elevator or stairs\n New Haven\, CT 
 06510\n United States\n 
URL:https://www.makehaven.org/civicrm/event/info?reset=1&id=908
END:VEVENT
END:VCALENDAR
